BEGIN:VCALENDAR
VERSION:2.0
PRODID:-//コツコツ防災|防災訓練を日々の生活から考える - ECPv5.5.0//NONSGML v1.0//EN
CALSCALE:GREGORIAN
METHOD:PUBLISH
X-WR-CALNAME:コツコツ防災|防災訓練を日々の生活から考える
X-ORIGINAL-URL:https://bousai-story.jp
X-WR-CALDESC:コツコツ防災|防災訓練を日々の生活から考える のイベント
BEGIN:VTIMEZONE
TZID:Asia/Tokyo
BEGIN:STANDARD
TZOFFSETFROM:+0900
TZOFFSETTO:+0900
TZNAME:JST
DTSTART:20180101T000000
END:STANDARD
END:VTIMEZONE
BEGIN:VEVENT
DTSTART;TZID=Asia/Tokyo:20180712T090000
DTEND;TZID=Asia/Tokyo:20180712T223000
DTSTAMP:20260422T160147
CREATED:20180605T065415Z
LAST-MODIFIED:20180605T065415Z
UID:1165-1531386000-1531434600@bousai-story.jp
SUMMARY:長岡造形大学 「空間安全論」にて防災トランプWS
DESCRIPTION:
URL:https://bousai-story.jp/event/%e9%95%b7%e5%b2%a1%e9%80%a0%e5%bd%a2%e5%a4%a7%e5%ad%a6-%e3%80%8c%e7%a9%ba%e9%96%93%e5%ae%89%e5%85%a8%e8%ab%96%e3%80%8d%e3%81%ab%e3%81%a6%e9%98%b2%e7%81%bd%e3%83%88%e3%83%a9%e3%83%b3%e3%83%97ws/
LOCATION:長岡造形大学 第2会議室
CATEGORIES:防災授業
END:VEVENT
END:VCALENDAR